BEGIN:VCALENDAR
VERSION:2.0
PRODID:-//eventon.com NONSGML v1.0//EN
BEGIN:VEVENT
UID:69e8fbc16f668
DTSTAMP:20260422T184801
DTSTART:20260927T070000Z
DTEND:20260927T120000Z
LOCATION:Valdemanco Polideportivo Municipal
SUMMARY:Trial de Valdemanco II
DESCRIPTION: Campeonato Comunidad de Madrid Trial. Valdemanco
END:VEVENT
END:VCALENDAR