BEGIN:VCALENDAR
VERSION:2.0
PRODID:-//eventon.com NONSGML v1.0//EN
BEGIN:VEVENT
UID:69e8ff5785d7b
DTSTAMP:20260422T190319
DTSTART:20220515T193000Z
DTEND:20220515T120000Z
LOCATION:La Pesquera Carretera Pantano\,  24\,  16269 La Pesquera\,  Cuenca
SUMMARY:Trial de La Pesquera
DESCRIPTION: Campeonato Comunidad Valenciana de Trial. La Pesquera (Cuenca). Categorías TR1\,  TR2\,  TR2 B\,  TR3\,  TR3 +40\,  TR4\,  TR4 +40\,  TR5\,  TR5 +40\,  Junior\,  Cadete y Juvenil.
END:VEVENT
END:VCALENDAR